BEGIN:VCALENDAR
VERSION:2.0
PRODID:SchoolNow
CALSCALE:GREGORIAN
BEGIN:VEVENT
UID:9e737810-3e8e-11f1-bb5f-0affce9b47e1
DTSTAMP:20260422T210248Z
SUMMARY:CDD Workshop
LOCATION:K Bar Ranch II Amenity Center located at 10820 Mistflower Lane\, T
 ampa\, FL 33647
URL;VALUE=URI:https://www.kbarranchcdd.com/calendar/9011702/cdd-workshop
DTSTART:20260429T220000Z
DTEND:20260429T230000Z
ATTACH;FILENAME=2026-04-29 K Bar Ranch Budget Workshop Agenda.pdf;FMTTYPE=a
 pplication/pdf:https://campussuite-storage.s3.amazonaws.com/prod/1558860/c
 2b68478-ea95-11e9-a272-0a20d2c7fac4/3091898/91ba4e14-3e8e-11f1-99c0-0affcf
 cf6731/file/2026-04-29 K Bar Ranch Budget Workshop Agenda.pdf
END:VEVENT
END:VCALENDAR
