BEGIN:VCALENDAR
VERSION:2.0
PRODID:SchoolNow
CALSCALE:GREGORIAN
BEGIN:VEVENT
UID:6f5645ca-81d4-11f0-ab2d-02eb822844bf
DTSTAMP:20250825T165624Z
SUMMARY:CDD Board Meeting- Sept. 2026
LOCATION:K Bar Ranch II Amenity Center located at 10820 Mistflower Lane\, T
 ampa\, FL 33647
URL;VALUE=URI:https://www.kbarranchcdd.com/calendar/8541268/cdd-board-meeti
 ng-sept-2026
DTSTART:20260902T220000Z
DTEND:20260902T230000Z
END:VEVENT
END:VCALENDAR
