BEGIN:VCALENDAR
VERSION:2.0
PRODID:SchoolNow
CALSCALE:GREGORIAN
BEGIN:VEVENT
UID:5e20ccbc-81d4-11f0-a2e4-0affc1bf85c7
DTSTAMP:20250825T165556Z
SUMMARY:CDD Board Meeting- Jul. 2026
LOCATION:K Bar Ranch II Amenity Center located at 10820 Mistflower Lane\, T
 ampa\, FL 33647
URL;VALUE=URI:https://www.kbarranchcdd.com/calendar/8541266/cdd-board-meeti
 ng-jul-2026
DTSTART:20260701T220000Z
DTEND:20260701T230000Z
END:VEVENT
END:VCALENDAR
