BEGIN:VCALENDAR
VERSION:2.0
PRODID:SchoolNow
CALSCALE:GREGORIAN
BEGIN:VEVENT
UID:56062874-81d4-11f0-bd4d-0e5d3462789d
DTSTAMP:20250825T165542Z
SUMMARY:CDD Board Meeting- Jun. 2026
LOCATION:K Bar Ranch II Amenity Center located at 10820 Mistflower Lane\, T
 ampa\, FL 33647
URL;VALUE=URI:https://www.kbarranchcdd.com/calendar/8541265/cdd-board-meeti
 ng-jun-2026
DTSTART:20260603T220000Z
DTEND:20260603T230000Z
END:VEVENT
END:VCALENDAR
